BEGIN:VCALENDAR
VERSION:2.0
PRODID:-// - ECPv6.15.20//NONSGML v1.0//EN
CALSCALE:GREGORIAN
METHOD:PUBLISH
X-ORIGINAL-URL:https://www.crossroadsresourcecentre.com
X-WR-CALDESC:Events for 
REFRESH-INTERVAL;VALUE=DURATION:PT1H
X-Robots-Tag:noindex
X-PUBLISHED-TTL:PT1H
BEGIN:VTIMEZONE
TZID:America/Edmonton
BEGIN:DAYLIGHT
TZOFFSETFROM:-0700
TZOFFSETTO:-0600
TZNAME:MDT
DTSTART:20190310T090000
END:DAYLIGHT
BEGIN:STANDARD
TZOFFSETFROM:-0600
TZOFFSETTO:-0700
TZNAME:MST
DTSTART:20191103T080000
END:STANDARD
BEGIN:DAYLIGHT
TZOFFSETFROM:-0700
TZOFFSETTO:-0600
TZNAME:MDT
DTSTART:20200308T090000
END:DAYLIGHT
BEGIN:STANDARD
TZOFFSETFROM:-0600
TZOFFSETTO:-0700
TZNAME:MST
DTSTART:20201101T080000
END:STANDARD
BEGIN:DAYLIGHT
TZOFFSETFROM:-0700
TZOFFSETTO:-0600
TZNAME:MDT
DTSTART:20210314T090000
END:DAYLIGHT
BEGIN:STANDARD
TZOFFSETFROM:-0600
TZOFFSETTO:-0700
TZNAME:MST
DTSTART:20211107T080000
END:STANDARD
BEGIN:DAYLIGHT
TZOFFSETFROM:-0700
TZOFFSETTO:-0600
TZNAME:MDT
DTSTART:20220313T090000
END:DAYLIGHT
BEGIN:STANDARD
TZOFFSETFROM:-0600
TZOFFSETTO:-0700
TZNAME:MST
DTSTART:20221106T080000
END:STANDARD
BEGIN:DAYLIGHT
TZOFFSETFROM:-0700
TZOFFSETTO:-0600
TZNAME:MDT
DTSTART:20230312T090000
END:DAYLIGHT
BEGIN:STANDARD
TZOFFSETFROM:-0600
TZOFFSETTO:-0700
TZNAME:MST
DTSTART:20231105T080000
END:STANDARD
BEGIN:DAYLIGHT
TZOFFSETFROM:-0700
TZOFFSETTO:-0600
TZNAME:MDT
DTSTART:20240310T090000
END:DAYLIGHT
BEGIN:STANDARD
TZOFFSETFROM:-0600
TZOFFSETTO:-0700
TZNAME:MST
DTSTART:20241103T080000
END:STANDARD
END:VTIMEZONE
BEGIN:VTIMEZONE
TZID:Europe/London
BEGIN:DAYLIGHT
TZOFFSETFROM:+0000
TZOFFSETTO:+0100
TZNAME:BST
DTSTART:20190331T010000
END:DAYLIGHT
BEGIN:STANDARD
TZOFFSETFROM:+0100
TZOFFSETTO:+0000
TZNAME:GMT
DTSTART:20191027T010000
END:STANDARD
BEGIN:DAYLIGHT
TZOFFSETFROM:+0000
TZOFFSETTO:+0100
TZNAME:BST
DTSTART:20200329T010000
END:DAYLIGHT
BEGIN:STANDARD
TZOFFSETFROM:+0100
TZOFFSETTO:+0000
TZNAME:GMT
DTSTART:20201025T010000
END:STANDARD
BEGIN:DAYLIGHT
TZOFFSETFROM:+0000
TZOFFSETTO:+0100
TZNAME:BST
DTSTART:20210328T010000
END:DAYLIGHT
BEGIN:STANDARD
TZOFFSETFROM:+0100
TZOFFSETTO:+0000
TZNAME:GMT
DTSTART:20211031T010000
END:STANDARD
END:VTIMEZONE
BEGIN:VEVENT
DTSTART;TZID=America/Edmonton:20230308T190000
DTEND;TZID=America/Edmonton:20230308T210000
DTSTAMP:20260423T101537
CREATED:20230301T180455Z
LAST-MODIFIED:20230301T180619Z
UID:3969-1678302000-1678309200@www.crossroadsresourcecentre.com
SUMMARY:Flower Crown Workshop
DESCRIPTION:This International Women’s Day\, Crossroads is teaming with Kimberly’s Blooms & Gift Boutique to host a Flower Crown Workshop\, at The Old Bistro March 8th at 7pm! 💐🌸🌺\n\n\n \n\n\nRegistration deadline is this Friday\, March 3rd. You can register in person at Crossroads or by phone\, 780-835-5550. \n\n\n** Limited spots available! \n\n\n* All ages welcome! \n\n\n \n\n\nCome join us for an evening of flower empowerment\, coffee and conversation. 💐
URL:https://www.crossroadsresourcecentre.com/eventscalendar/flower-crown-workshop/
LOCATION:The Old Bistro\, 10906 102 Ave\, Fairview\, Alberta\, T0H 1L0\, Canada
ATTACH;FMTTYPE=image/png:https://www.crossroadsresourcecentre.com/wp-content/uploads/Header-for-ticket-page.png
END:VEVENT
BEGIN:VEVENT
DTSTART;TZID=America/Edmonton:20221128T030000
DTEND;TZID=America/Edmonton:20221209T050000
DTSTAMP:20260423T101537
CREATED:20221129T192608Z
LAST-MODIFIED:20221129T192807Z
UID:3914-1669604400-1670562000@www.crossroadsresourcecentre.com
SUMMARY:Silent Auction
DESCRIPTION:
URL:https://www.crossroadsresourcecentre.com/eventscalendar/silent-auction/
LOCATION:Alberta
END:VEVENT
BEGIN:VEVENT
DTSTART;TZID=America/Edmonton:20221102T010000
DTEND;TZID=America/Edmonton:20221102T030000
DTSTAMP:20260423T101537
CREATED:20221012T174355Z
LAST-MODIFIED:20221026T202454Z
UID:3883-1667350800-1667358000@www.crossroadsresourcecentre.com
SUMMARY:Breakfast with the guys
DESCRIPTION:
URL:https://www.crossroadsresourcecentre.com/eventscalendar/breakfast-with-the-guys/
LOCATION:Alberta
END:VEVENT
BEGIN:VEVENT
DTSTART;TZID=America/Edmonton:20221101T010000
DTEND;TZID=America/Edmonton:20221130T170000
DTSTAMP:20260423T101537
CREATED:20221012T174718Z
LAST-MODIFIED:20221026T203142Z
UID:3885-1667264400-1669827600@www.crossroadsresourcecentre.com
SUMMARY:Family Violence Prevention Month
DESCRIPTION:
URL:https://www.crossroadsresourcecentre.com/eventscalendar/family-violence-prevention-month-2/
LOCATION:Alberta
END:VEVENT
BEGIN:VEVENT
DTSTART;TZID=America/Edmonton:20220928T140000
DTEND;TZID=America/Edmonton:20221002T150000
DTSTAMP:20260423T101537
CREATED:20220928T222522Z
LAST-MODIFIED:20220928T222522Z
UID:3869-1664373600-1664722800@www.crossroadsresourcecentre.com
SUMMARY:Dog Walk
DESCRIPTION:
URL:https://www.crossroadsresourcecentre.com/eventscalendar/dog-walk/
LOCATION:Alberta
END:VEVENT
BEGIN:VEVENT
DTSTART;VALUE=DATE:20220515
DTEND;VALUE=DATE:20220522
DTSTAMP:20260423T101537
CREATED:20220513T190420Z
LAST-MODIFIED:20220513T191716Z
UID:3840-1652572800-1653177599@www.crossroadsresourcecentre.com
SUMMARY:National Victims and Survivors of Crime Week
DESCRIPTION:
URL:https://www.crossroadsresourcecentre.com/eventscalendar/national-victims-and-survivors-of-crime-week/
LOCATION:Alberta
END:VEVENT
BEGIN:VEVENT
DTSTART;VALUE=DATE:20220501
DTEND;VALUE=DATE:20220601
DTSTAMP:20260423T101537
CREATED:20220513T190537Z
LAST-MODIFIED:20220513T190537Z
UID:3845-1651363200-1654041599@www.crossroadsresourcecentre.com
SUMMARY:Sexual Abuse Awareness Month
DESCRIPTION:
URL:https://www.crossroadsresourcecentre.com/eventscalendar/sexual-abuse-awareness-month/
LOCATION:Alberta
END:VEVENT
BEGIN:VEVENT
DTSTART;VALUE=DATE:20201124
DTEND;VALUE=DATE:20201125
DTSTAMP:20260423T101537
CREATED:20201123T161446Z
LAST-MODIFIED:20201123T161446Z
UID:1489-1606176000-1606262399@www.crossroadsresourcecentre.com
SUMMARY:Go Purple on November 24th
DESCRIPTION:.
URL:https://www.crossroadsresourcecentre.com/eventscalendar/go-purple-on-november-24th/
LOCATION:Alberta
END:VEVENT
BEGIN:VEVENT
DTSTART;VALUE=DATE:20201123
DTEND;VALUE=DATE:20201204
DTSTAMP:20260423T101537
CREATED:20201123T161932Z
LAST-MODIFIED:20201123T164425Z
UID:1492-1606089600-1607039999@www.crossroadsresourcecentre.com
SUMMARY:Online Auction
DESCRIPTION:Crossroads is having an online auction from November 23rd to December 4th. You can find the auction room through this link: https://www.crossroadsresourcecentre.com/new-to-you/auctions/
URL:https://www.crossroadsresourcecentre.com/eventscalendar/online-auction/
LOCATION:Alberta
END:VEVENT
BEGIN:VEVENT
DTSTART;TZID=America/Edmonton:20201031T220000
DTEND;TZID=America/Edmonton:20201129T170000
DTSTAMP:20260423T101537
CREATED:20201030T215137Z
LAST-MODIFIED:20201030T215322Z
UID:1376-1604181600-1606669200@www.crossroadsresourcecentre.com
SUMMARY:Family Violence Prevention Month
DESCRIPTION:
URL:https://www.crossroadsresourcecentre.com/eventscalendar/family-violence-prevention-month/
LOCATION:Alberta
END:VEVENT
BEGIN:VEVENT
DTSTART;TZID=America/Edmonton:20200825T080000
DTEND;TZID=America/Edmonton:20200918T170000
DTSTAMP:20260423T101537
CREATED:20200825T154327Z
LAST-MODIFIED:20200825T154327Z
UID:1262-1598342400-1600448400@www.crossroadsresourcecentre.com
SUMMARY:Thanksgiving Hampers
DESCRIPTION:
URL:https://www.crossroadsresourcecentre.com/eventscalendar/thanksgiving-hampers/
LOCATION:Alberta
END:VEVENT
BEGIN:VEVENT
DTSTART;TZID=America/Edmonton:20200404T110000
DTEND;TZID=America/Edmonton:20200404T110000
DTSTAMP:20260423T101537
CREATED:20200227T181441Z
LAST-MODIFIED:20200227T181601Z
UID:967-1585998000-1585998000@www.crossroadsresourcecentre.com
SUMMARY:Woman to Woman Gala
DESCRIPTION:
URL:https://www.crossroadsresourcecentre.com/eventscalendar/woman-to-woman-gala/
LOCATION:Alberta
END:VEVENT
BEGIN:VEVENT
DTSTART;TZID=Europe/London:20200212T160000
DTEND;TZID=Europe/London:20200212T180000
DTSTAMP:20260423T101537
CREATED:20200116T184256Z
LAST-MODIFIED:20200116T184256Z
UID:936-1581523200-1581530400@www.crossroadsresourcecentre.com
SUMMARY:Anxiety Warrior
DESCRIPTION:
URL:https://www.crossroadsresourcecentre.com/eventscalendar/anxiety-warrior-5/
LOCATION:Ignite Youth Centre
END:VEVENT
BEGIN:VEVENT
DTSTART;TZID=Europe/London:20200205T160000
DTEND;TZID=Europe/London:20200205T180000
DTSTAMP:20260423T101537
CREATED:20200116T184022Z
LAST-MODIFIED:20200116T184022Z
UID:934-1580918400-1580925600@www.crossroadsresourcecentre.com
SUMMARY:Anxiety Warrior
DESCRIPTION:
URL:https://www.crossroadsresourcecentre.com/eventscalendar/anxiety-warrior-4/
LOCATION:Ignite Youth Centre
END:VEVENT
BEGIN:VEVENT
DTSTART;TZID=Europe/London:20200129T160000
DTEND;TZID=Europe/London:20200129T180000
DTSTAMP:20260423T101537
CREATED:20200116T183621Z
LAST-MODIFIED:20200116T183621Z
UID:932-1580313600-1580320800@www.crossroadsresourcecentre.com
SUMMARY:Anxiety Warrior
DESCRIPTION:
URL:https://www.crossroadsresourcecentre.com/eventscalendar/anxiety-warrior-3/
LOCATION:Ignite Youth Centre
END:VEVENT
BEGIN:VEVENT
DTSTART;TZID=Europe/London:20200122T160000
DTEND;TZID=Europe/London:20200122T180000
DTSTAMP:20260423T101537
CREATED:20200116T183044Z
LAST-MODIFIED:20200116T183419Z
UID:930-1579708800-1579716000@www.crossroadsresourcecentre.com
SUMMARY:Anxiety Warrior
DESCRIPTION:
URL:https://www.crossroadsresourcecentre.com/eventscalendar/anxiety-warrior-2/
LOCATION:Ignite Youth Centre
END:VEVENT
BEGIN:VEVENT
DTSTART;TZID=Europe/London:20200115T160000
DTEND;TZID=Europe/London:20200115T180000
DTSTAMP:20260423T101537
CREATED:20200116T181322Z
LAST-MODIFIED:20200116T182045Z
UID:924-1579104000-1579111200@www.crossroadsresourcecentre.com
SUMMARY:Anxiety Warrior
DESCRIPTION:
URL:https://www.crossroadsresourcecentre.com/eventscalendar/anxiety-warrior/
LOCATION:Ignite Youth Centre
END:VEVENT
END:VCALENDAR